BEGIN:VCALENDAR
VERSION:2.0
PRODID:-//Nadia Raafat - Birth + Motherhood / Feminine Spirituality / Pelvic Healing &amp; Awakening - ECPv6.15.13.1//NONSGML v1.0//EN
CALSCALE:GREGORIAN
METHOD:PUBLISH
X-ORIGINAL-URL:https://nadiaraafat.com
X-WR-CALDESC:Events for Nadia Raafat - Birth + Motherhood / Feminine Spirituality / Pelvic Healing &amp; Awakening
REFRESH-INTERVAL;VALUE=DURATION:PT1H
X-Robots-Tag:noindex
X-PUBLISHED-TTL:PT1H
BEGIN:VTIMEZONE
TZID:Europe/London
BEGIN:DAYLIGHT
TZOFFSETFROM:+0000
TZOFFSETTO:+0100
TZNAME:BST
DTSTART:20210328T010000
END:DAYLIGHT
BEGIN:STANDARD
TZOFFSETFROM:+0100
TZOFFSETTO:+0000
TZNAME:GMT
DTSTART:20211031T010000
END:STANDARD
BEGIN:DAYLIGHT
TZOFFSETFROM:+0000
TZOFFSETTO:+0100
TZNAME:BST
DTSTART:20220327T010000
END:DAYLIGHT
BEGIN:STANDARD
TZOFFSETFROM:+0100
TZOFFSETTO:+0000
TZNAME:GMT
DTSTART:20221030T010000
END:STANDARD
BEGIN:DAYLIGHT
TZOFFSETFROM:+0000
TZOFFSETTO:+0100
TZNAME:BST
DTSTART:20230326T010000
END:DAYLIGHT
BEGIN:STANDARD
TZOFFSETFROM:+0100
TZOFFSETTO:+0000
TZNAME:GMT
DTSTART:20231029T010000
END:STANDARD
END:VTIMEZONE
BEGIN:VEVENT
DTSTART;TZID=Europe/London:20221205T190000
DTEND;TZID=Europe/London:20221205T210000
DTSTAMP:20260424T060736
CREATED:20221116T142945Z
LAST-MODIFIED:20221119T223500Z
UID:5922-1670266800-1670274000@nadiaraafat.com
SUMMARY:Christmas Yin & Yoga Nidra Wind-Down
DESCRIPTION:Ease Gently Into the Christmas Season\nTwo Hours of Yin Yoga followed by Yoga Nidra\nMonday 5 December  2022 7-9pm\nCost £25\nJoin me for a nourishing yin yoga journey through the body\, interspersed with small pockets of somatic movement to access and enliven restricted areas. Our goal is to nourish the joints\, lengthen connective tissues\, relieve stiffness\, and bring quiet energy and awareness throughout the mind/body system.\n75 minuets of Yin Yoga will be a followed by a Yoga Nidra journey through the chakras to cultivate a deeper cerebral connection with each chakra alongside deep mental release. \nYin Yoga is a soothing\, healing yoga practice\, characterised by floor-based and supported postures which nourish the joints\, stretch and release the soft tissues of the body and heighten your embodied awareness. Yin Yoga leaves you feeling profoundly down-regulated and gently revitalized. Yin Yoga brings many benefits to the body including: \n\nLengthening connective tissue\nIncreasing flexibility\nBoosting circulation\nReducing stress levels\nIncreasing Interoception\n\nFrom s mental and emotional perspective\, the practice down-regulates the nervous system\, and therefore becomes deeply healing and nourishing. Through the static long holds\, practitioners are guided to experience themselves mindfully; practising awareness of the breath; awareness of the fluctuating nature of their mind and of the distractions arising in the body. In this way it is an ideal preparation for meditation. \nYoga Nidra (Yogic Sleep) is an ancient meditation technique designed to bring the mind to its deepest state of relaxation through a series of guided practices. Within this state know as psychic sleep\, we start to experience the ‘deeper’ features of the mind and also of yogic teachings. It is a beautiful healing practice that enables you to experience a rare expansiveness alongside deep rest. \nBook your place here. \nhttps://momence.com/s/76156437 \n \n 
URL:https://nadiaraafat.com/event/december-yin-yoga-nidra-wind-down/
LOCATION:ONLINE\, United Kingdom
CATEGORIES:Christmas,Mindfulness,Yin Yoga,Yoga
ATTACH;FMTTYPE=image/jpeg:https://nadiaraafat.com/wp-content/uploads/2022/11/candles_advent_wreath_advent_christmas_candlelight_arrangement_red_fourth_candle-1264443-768x514-1.jpg
ORGANIZER;CN="Nadia Raafat":MAILTO:nadia@nadiaraafat.com
END:VEVENT
END:VCALENDAR